BEGIN:VCALENDAR
VERSION:2.0
PRODID:-//Plone.org//NONSGML plone.app.event//EN
X-WR-TIMEZONE:Europe/Madrid
BEGIN:VEVENT
SUMMARY:Hora del conte: Contes coeducatius
DTSTART;TZID=Europe/Madrid;VALUE=DATE-TIME:20180315T180000
DTEND;TZID=Europe/Madrid;VALUE=DATE-TIME:20180315T190000
DTSTAMP;VALUE=DATE-TIME:20260421T232919Z
UID:73bc050223b3bd8ead13a37b75bdc2c1
CREATED;VALUE=DATE-TIME:20180315T000000Z
CATEGORIES:Literatura,Infantils
LOCATION:Sala d'Actes de la Biblioteca - C. Bonaire, 3
ORGANIZER:Biblioteca - Regidoria de Cultura, Regidoria de Drets Civils, Escola Sinera i Col·legi la Presentació
DESCRIPTION:a càrrec dels alumnes de 6è de l'Escola Sinera i el Col·legi la Presentació
URL:https://arenysdemar.cat/document.php?id=34556
END:VEVENT
END:VCALENDAR