BEGIN:VCALENDAR
VERSION:2.0
PRODID:-//Plone.org//NONSGML plone.app.event//EN
X-WR-TIMEZONE:Europe/Madrid
BEGIN:VEVENT
SUMMARY:Processó de Setmana Santa
DTSTART;TZID=Europe/Madrid;VALUE=DATE-TIME:20180330T200000
DTEND;TZID=Europe/Madrid;VALUE=DATE-TIME:20180330T210000
DTSTAMP;VALUE=DATE-TIME:20260423T152039Z
UID:ac3c39a24eb2842125968ca667b717da
CREATED;VALUE=DATE-TIME:20180330T000000Z
CATEGORIES:Mostra
LOCATION:Inici al Convent dels Caputxins. Finalitza a la Parròquia
ORGANIZER:Comunitat Cristiana d'Arenys de Mar
DESCRIPTION:Divendres Sant
URL:https://arenysdemar.cat/document.php?id=34567
END:VEVENT
END:VCALENDAR