BEGIN:VCALENDAR
VERSION:2.0
PRODID:-//Plone.org//NONSGML plone.app.event//EN
X-WR-TIMEZONE:Europe/Madrid
BEGIN:VEVENT
SUMMARY:Lectura del Manifest
DTSTART;TZID=Europe/Madrid;VALUE=DATE-TIME:20180308T190000
DTEND;TZID=Europe/Madrid;VALUE=DATE-TIME:20180308T200000
DTSTAMP;VALUE=DATE-TIME:20260423T150929Z
UID:99c34e1dcb6f1f085d9047bac579dc26
CREATED;VALUE=DATE-TIME:20180308T000000Z
CATEGORIES:Mostra,Música
LOCATION:Sala Josep Maria Arnau del C.C.Calisay - Riera del Pare Fita, 31
ORGANIZER:Regidoria de Drets Civils
DESCRIPTION:a càrrec de Lourdes Cazorla i actuació del grup Mar de Gospel
URL:https://arenysdemar.cat/document.php?id=34574
END:VEVENT
END:VCALENDAR