BEGIN:VCALENDAR
VERSION:2.0
PRODID:-//Plone.org//NONSGML plone.app.event//EN
X-WR-TIMEZONE:Europe/Madrid
BEGIN:VEVENT
SUMMARY:Ruta i presentació de la nova guia L'arquitectura d'Arenys de Mar
DTSTART;TZID=Europe/Madrid;VALUE=DATE-TIME:20180311T110000
DTEND;TZID=Europe/Madrid;VALUE=DATE-TIME:20180311T120000
DTSTAMP;VALUE=DATE-TIME:20260424T005835Z
UID:3d0cb519ba0110f040b56873576013ff
CREATED;VALUE=DATE-TIME:20180311T000000Z
CATEGORIES:Mostra
LOCATION:Edifici Xifré - Can Nadal s/n
ORGANIZER:Ajuntament d'Arenys de Mar
COMMENT:Preu: Gratuït. Inscripcions a l'Oficina de Turisme, a turisme@arenysdemar.cat o bé al tel. 937957039
Durada: 2 hores aproximadament
URL:https://arenysdemar.cat/document.php?id=34575
END:VEVENT
END:VCALENDAR