BEGIN:VCALENDAR
VERSION:2.0
PRODID:-//Plone.org//NONSGML plone.app.event//EN
X-WR-TIMEZONE:Europe/Madrid
BEGIN:VEVENT
SUMMARY:Música i recital poètic: Notes i lletres
DTSTART;TZID=Europe/Madrid;VALUE=DATE-TIME:20180316T220000
DTEND;TZID=Europe/Madrid;VALUE=DATE-TIME:20180316T230000
DTSTAMP;VALUE=DATE-TIME:20260420T233108Z
UID:cddc8e2ceff6032d28ce8c1636224145
CREATED;VALUE=DATE-TIME:20180316T000000Z
CATEGORIES:Literatura,Música
LOCATION:Sala Petita dels Seràfics - Josep Baralt, s/n
ORGANIZER:Seràfics
COMMENT:Preu: Entrada inversa
Durada: 60 min.
DESCRIPTION:a càrrec de Maria Teresa Bertran i Marc Egea. Cicle Cau d'Art
URL:https://arenysdemar.cat/document.php?id=34581
END:VEVENT
END:VCALENDAR