BEGIN:VCALENDAR
VERSION:2.0
PRODID:-//Plone.org//NONSGML plone.app.event//EN
X-WR-TIMEZONE:Europe/Madrid
BEGIN:VEVENT
SUMMARY:Celebració del dia PI
DTSTART;TZID=Europe/Madrid;VALUE=DATE-TIME:20180314T090000
DTEND;TZID=Europe/Madrid;VALUE=DATE-TIME:20180314T100000
DTSTAMP;VALUE=DATE-TIME:20260421T140628Z
UID:398de0eb99d6dcd4ce5439280dafa7d2
CREATED;VALUE=DATE-TIME:20180314T000000Z
CATEGORIES:Festa
LOCATION:Institut Els Tres Turons
ORGANIZER:Institut Els Tres Turons
DESCRIPTION:Jornada matemàtica de les escoles Joan Maragall i Sinera i l'Institut Els Tres Turons
URL:https://arenysdemar.cat/document.php?id=34615
END:VEVENT
END:VCALENDAR