BEGIN:VCALENDAR
VERSION:2.0
PRODID:-//Plone.org//NONSGML plone.app.event//EN
X-WR-TIMEZONE:Europe/Madrid
BEGIN:VEVENT
SUMMARY:Sessions informatives per a la Consulta sobre la nova ubicació de la Biblioteca
DTSTART;TZID=Europe/Madrid;VALUE=DATE-TIME:20180303T103000
DTEND;TZID=Europe/Madrid;VALUE=DATE-TIME:20180303T113000
DTSTAMP;VALUE=DATE-TIME:20260424T114217Z
UID:4c1fb548486c3630fbba71458c9d55dd
CREATED;VALUE=DATE-TIME:20180303T000000Z
CATEGORIES:Mostra
LOCATION:Riera, davant del C.C. Calisay
ORGANIZER:Participació Ciutadana
DESCRIPTION:Visita Guiada: Possibles nous emplaçaments
URL:https://arenysdemar.cat/document.php?id=34621
END:VEVENT
END:VCALENDAR