BEGIN:VCALENDAR
VERSION:2.0
PRODID:-//Plone.org//NONSGML plone.app.event//EN
X-WR-TIMEZONE:Europe/Madrid
BEGIN:VEVENT
SUMMARY:Concert: Jordi Lanuza
DTSTART;TZID=Europe/Madrid;VALUE=DATE-TIME:20180428T210000
DTEND;TZID=Europe/Madrid;VALUE=DATE-TIME:20180428T220000
DTSTAMP;VALUE=DATE-TIME:20260424T000106Z
UID:cebfe94d399a458c60ab30e44cf737b6
CREATED;VALUE=DATE-TIME:20180428T000000Z
LOCATION:Sala polivalent de Sant Cebrià de Vallalta
ORGANIZER:Ajuntaments d'Arenys de Mar, Sant Pol de Mar, Canet de Mar, Sant Cebrià de Vallalta i Arenys de Munt
COMMENT:Preu: Informació i venda d'entrades a www.essencials.cat
URL:https://arenysdemar.cat/document.php?id=34645
END:VEVENT
END:VCALENDAR