BEGIN:VCALENDAR
VERSION:2.0
PRODID:-//Plone.org//NONSGML plone.app.event//EN
X-WR-TIMEZONE:Europe/Madrid
BEGIN:VEVENT
SUMMARY:Visita el drac Arenyot a la seva cova
DTSTART;TZID=Europe/Madrid;VALUE=DATE-TIME:20180423T100000
DTEND;TZID=Europe/Madrid;VALUE=DATE-TIME:20180423T110000
DTSTAMP;VALUE=DATE-TIME:20260420T185944Z
UID:23b92f3718cedfbb426ba3a59c567786
CREATED;VALUE=DATE-TIME:20180423T000000Z
CATEGORIES:Exposició
LOCATION:Sala Polivalent del C.C.Calisay - Riera Pare Fita, 31
ORGANIZER:Geganters d'Arenys de Mar i regidoria de Festes
COMMENT:Durada: Fins que es desperti
URL:https://arenysdemar.cat/document.php?id=34673
END:VEVENT
END:VCALENDAR