BEGIN:VCALENDAR
VERSION:2.0
PRODID:-//Plone.org//NONSGML plone.app.event//EN
X-WR-TIMEZONE:Europe/Madrid
BEGIN:VEVENT
SUMMARY:Despertem al drac Arenyot!
DTSTART;TZID=Europe/Madrid;VALUE=DATE-TIME:20180423T171500
DTEND;TZID=Europe/Madrid;VALUE=DATE-TIME:20180423T181500
DTSTAMP;VALUE=DATE-TIME:20260423T233226Z
UID:f07dfb58475dd459413a7db0d4d27b31
CREATED;VALUE=DATE-TIME:20180423T000000Z
CATEGORIES:Festa
LOCATION:Pati del C.C.Calisay - Riera del Pare Fita, 31
ORGANIZER:Geganters d'Arenys de Mar i regidoria de Festes
URL:https://arenysdemar.cat/document.php?id=34674
END:VEVENT
END:VCALENDAR