BEGIN:VCALENDAR
VERSION:2.0
PRODID:-//Plone.org//NONSGML plone.app.event//EN
X-WR-TIMEZONE:Europe/Madrid
BEGIN:VEVENT
SUMMARY:Teatre: Les dones savies de Moliere
DTSTART;TZID=Europe/Madrid;VALUE=DATE-TIME:20180506T190000
DTEND;TZID=Europe/Madrid;VALUE=DATE-TIME:20180506T200000
DTSTAMP;VALUE=DATE-TIME:20260425T160807Z
UID:755cc0cf0a7c99572154d2996c52fd66
CREATED;VALUE=DATE-TIME:20180506T000000Z
CATEGORIES:Teatre
LOCATION:Teatre Principal - C. Església, 45-47
ORGANIZER:Regidoria de Cultura i S.C.L'Esperança
COMMENT:Preu: 10 euros anticipada, 12 euros taquilla i 8 euros socis
DESCRIPTION:Amb Ricard Ferrer i Enric Cambray
URL:https://arenysdemar.cat/document.php?id=34723
END:VEVENT
END:VCALENDAR