BEGIN:VCALENDAR
VERSION:2.0
PRODID:-//Plone.org//NONSGML plone.app.event//EN
X-WR-TIMEZONE:Europe/Madrid
BEGIN:VEVENT
SUMMARY:Exposició de fotografies: 10 anys de plantacions de les escoles a les platges d'Arenys de Mar
DTSTART;TZID=Europe/Madrid;VALUE=DATE-TIME:20180602T000000
DTEND;TZID=Europe/Madrid;VALUE=DATE-TIME:20180602T010000
DTSTAMP;VALUE=DATE-TIME:20260425T142322Z
UID:df5324efea94e0e4f38d783aafaa3fc9
CREATED;VALUE=DATE-TIME:20180602T000000Z
CATEGORIES:Exposició
LOCATION:Sala Bótes del CC Calisay - Riera del Pare Fita, 31
ORGANIZER:Ajuntament d'Arenys de Mar
COMMENT:Durada: Fins al 17 de juny de 2018
URL:https://arenysdemar.cat/document.php?id=34726
END:VEVENT
END:VCALENDAR