BEGIN:VCALENDAR
VERSION:2.0
PRODID:-//Plone.org//NONSGML plone.app.event//EN
X-WR-TIMEZONE:Europe/Madrid
BEGIN:VEVENT
SUMMARY:Excursió a Montserrat
DTSTART;TZID=Europe/Madrid;VALUE=DATE-TIME:20180419T080000
DTEND;TZID=Europe/Madrid;VALUE=DATE-TIME:20180419T090000
DTSTAMP;VALUE=DATE-TIME:20260420T165329Z
UID:efcb2172d1709488a39f81abea9a5c62
CREATED;VALUE=DATE-TIME:20180419T000000Z
LOCATION:sortida de la Riera, davant del CC Calisay
ORGANIZER:Esplai de la Gent Gran
COMMENT:Preu: 35 euros
URL:https://arenysdemar.cat/document.php?id=34749
END:VEVENT
END:VCALENDAR