BEGIN:VCALENDAR
VERSION:2.0
PRODID:-//Plone.org//NONSGML plone.app.event//EN
X-WR-TIMEZONE:Europe/Madrid
BEGIN:VEVENT
SUMMARY:Selecció de nous cantaires
DTSTART;TZID=Europe/Madrid;VALUE=DATE-TIME:20180317T000001
DTEND;TZID=Europe/Madrid;VALUE=DATE-TIME:20180317T010001
DTSTAMP;VALUE=DATE-TIME:20260423T200850Z
UID:6bf13046e272e972e710387ab4026d56
CREATED;VALUE=DATE-TIME:20180317T000000Z
CATEGORIES:Música
LOCATION:Sala d'Actes de la Biblioteca - C. Bonaire, 3
ORGANIZER:Família Coral L'Aixa
COMMENT:Preu: Concertar hora per mitjà del mail conjuntvoxart@gmail.com o bé per whatsapp al 665075912
DESCRIPTION:Nova producció musical en marxa
URL:https://arenysdemar.cat/document.php?id=34755
END:VEVENT
END:VCALENDAR