BEGIN:VCALENDAR
VERSION:2.0
PRODID:-//Plone.org//NONSGML plone.app.event//EN
X-WR-TIMEZONE:Europe/Madrid
BEGIN:VEVENT
SUMMARY:Casal de Setmana Santa
DTSTART;TZID=Europe/Madrid;VALUE=DATE-TIME:20180324T100000
DTEND;TZID=Europe/Madrid;VALUE=DATE-TIME:20180324T110000
DTSTAMP;VALUE=DATE-TIME:20260422T061020Z
UID:5fdf82fdc7147889e166e689c8a0e9bb
CREATED;VALUE=DATE-TIME:20180324T000000Z
CATEGORIES:Esports
LOCATION:Base Nàutica Arenys de Mar - Auterive, s/n
ORGANIZER:Base Nàutica Arenys de Mar
COMMENT:Preu: Per a més informació i inscripcions basenautica@cnarenys.com o bé al 620259032
Durada: Fins al 2 abril. Horaris matí 10-14h i tarda 15-18h. Dia sencer 10-18h
URL:https://arenysdemar.cat/document.php?id=34783
END:VEVENT
END:VCALENDAR