BEGIN:VCALENDAR
VERSION:2.0
PRODID:-//Plone.org//NONSGML plone.app.event//EN
X-WR-TIMEZONE:Europe/Madrid
BEGIN:VEVENT
SUMMARY:Conferència-col·loqui: Parlem de cures pal·liatives
DTSTART;TZID=Europe/Madrid;VALUE=DATE-TIME:20180516T153000
DTEND;TZID=Europe/Madrid;VALUE=DATE-TIME:20180516T163000
DTSTAMP;VALUE=DATE-TIME:20260423T121649Z
UID:6a1751b43e9f1aa00d4f466f6f6d7c6b
CREATED;VALUE=DATE-TIME:20180516T000000Z
CATEGORIES:Conferència
LOCATION:Sala Noble del C.C.Calisay - Riera Pare Fita, 31
ORGANIZER:EAP Arenys de Mar
COMMENT:Preu: gratuït
Durada: de 15:30 a 16:45
DESCRIPTION:a càrrec de la Dra. Teresa Llodrà
URL:https://arenysdemar.cat/document.php?id=34875
END:VEVENT
END:VCALENDAR