BEGIN:VCALENDAR
VERSION:2.0
PRODID:-//Plone.org//NONSGML plone.app.event//EN
X-WR-TIMEZONE:Europe/Madrid
BEGIN:VEVENT
SUMMARY:Converses a la carta en alemany. Gespräche nach Wahl
DTSTART;TZID=Europe/Madrid;VALUE=DATE-TIME:20180531T191500
DTEND;TZID=Europe/Madrid;VALUE=DATE-TIME:20180531T201500
DTSTAMP;VALUE=DATE-TIME:20260422T051451Z
UID:7d93d7a1d638a4a1a0173399040eb175
CREATED;VALUE=DATE-TIME:20180531T000000Z
CATEGORIES:Cursos,Literatura
LOCATION:Biblioteca - Bonaire, 2
ORGANIZER:Biblioteca - Regidoria de Cultura
DESCRIPTION:a carrèc d'Eva Puigventós
URL:https://arenysdemar.cat/document.php?id=34892
END:VEVENT
END:VCALENDAR