BEGIN:VCALENDAR
VERSION:2.0
PRODID:-//Plone.org//NONSGML plone.app.event//EN
X-WR-TIMEZONE:Europe/Madrid
BEGIN:VEVENT
SUMMARY:Ball del dissabte
DTSTART;TZID=Europe/Madrid;VALUE=DATE-TIME:20180519T223000
DTEND;TZID=Europe/Madrid;VALUE=DATE-TIME:20180519T233000
DTSTAMP;VALUE=DATE-TIME:20260423T144957Z
UID:01d4807bb8b40b6b9233fb34136b702c
CREATED;VALUE=DATE-TIME:20180519T000000Z
CATEGORIES:Música
LOCATION:Ateneu Arenyenc - Anselm Clavé, 22
ORGANIZER:Ateneu Arenyenc
COMMENT:Preu: Soci 4 euros i no soci 5 euros
DESCRIPTION:amb l'actuació del Duet Que Tal
URL:https://arenysdemar.cat/document.php?id=34933
END:VEVENT
END:VCALENDAR