BEGIN:VCALENDAR
VERSION:2.0
PRODID:-//Plone.org//NONSGML plone.app.event//EN
X-WR-TIMEZONE:Europe/Madrid
BEGIN:VEVENT
SUMMARY:Microteatre: El Cavaller Obac
DTSTART;TZID=Europe/Madrid;VALUE=DATE-TIME:20180603T110000
DTEND;TZID=Europe/Madrid;VALUE=DATE-TIME:20180603T120000
DTSTAMP;VALUE=DATE-TIME:20260424T044927Z
UID:9581ca35e6434c346c6d5ca52ba130ae
CREATED;VALUE=DATE-TIME:20180603T000000Z
CATEGORIES:Teatre
LOCATION:Plaça de l'Ajuntament - Riera Bisbe Pol, 8
ORGANIZER:Regidoria de Turisme
COMMENT:Preu: Gratuït. No cal reserva prèvia
Durada: 11h, 11.45h, 12.30h i 13.15h
DESCRIPTION:a càrrec d'ES-BO Teatre
URL:https://arenysdemar.cat/document.php?id=35014
END:VEVENT
END:VCALENDAR