BEGIN:VCALENDAR
VERSION:2.0
PRODID:-//Plone.org//NONSGML plone.app.event//EN
X-WR-TIMEZONE:Europe/Madrid
BEGIN:VEVENT
SUMMARY:Saló d'Art Estiu 2018
DTSTART;TZID=Europe/Madrid;VALUE=DATE-TIME:20180622T190000
DTEND;TZID=Europe/Madrid;VALUE=DATE-TIME:20180622T200000
DTSTAMP;VALUE=DATE-TIME:20260423T185008Z
UID:306ee0c01b5ce38dea8ca110753378de
CREATED;VALUE=DATE-TIME:20180622T000000Z
CATEGORIES:Exposició
LOCATION:Riera Pare Fita, 1
ORGANIZER:Mitjanit
COMMENT:Durada: Fins al 31 d'agost en horari de 18.30 a 20.30h
DESCRIPTION:Exposició d'art del Grup Mitjanit i artistes arenyencs
URL:https://arenysdemar.cat/document.php?id=35032
END:VEVENT
END:VCALENDAR