BEGIN:VCALENDAR
VERSION:2.0
PRODID:-//Plone.org//NONSGML plone.app.event//EN
X-WR-TIMEZONE:Europe/Madrid
BEGIN:VEVENT
SUMMARY:Concert de Festa Major
DTSTART;TZID=Europe/Madrid;VALUE=DATE-TIME:20180706T183000
DTEND;TZID=Europe/Madrid;VALUE=DATE-TIME:20180706T193000
DTSTAMP;VALUE=DATE-TIME:20260421T204037Z
UID:abbd74665ab2cb8bb3536b08632c0236
CREATED;VALUE=DATE-TIME:20180706T000000Z
CATEGORIES:Música
LOCATION:Riera zona nova coberta
ORGANIZER:Regidoria de Festes
DESCRIPTION:a càrrec de l'Orquestra La Principal de la Bisbal
URL:https://arenysdemar.cat/document.php?id=35037
END:VEVENT
END:VCALENDAR