BEGIN:VCALENDAR
VERSION:2.0
PRODID:-//Plone.org//NONSGML plone.app.event//EN
X-WR-TIMEZONE:Europe/Madrid
BEGIN:VEVENT
SUMMARY:Recollida de xumets
DTSTART;TZID=Europe/Madrid;VALUE=DATE-TIME:20180709T173000
DTEND;TZID=Europe/Madrid;VALUE=DATE-TIME:20180709T183000
DTSTAMP;VALUE=DATE-TIME:20260420T134050Z
UID:233fcc21497cd6c340e5459e13fb7e69
CREATED;VALUE=DATE-TIME:20180709T000000Z
CATEGORIES:Infantils
LOCATION:Plaça de l'Església - Plaça de l'Església
ORGANIZER:Regidoria de Festes
DESCRIPTION:amb la Colla gegantera
URL:https://arenysdemar.cat/document.php?id=35058
END:VEVENT
END:VCALENDAR