BEGIN:VCALENDAR
VERSION:2.0
PRODID:-//Plone.org//NONSGML plone.app.event//EN
X-WR-TIMEZONE:Europe/Madrid
BEGIN:VEVENT
SUMMARY:Piano al carrer
DTSTART;TZID=Europe/Madrid;VALUE=DATE-TIME:20180603T110000
DTEND;TZID=Europe/Madrid;VALUE=DATE-TIME:20180603T120000
DTSTAMP;VALUE=DATE-TIME:20260423T222432Z
UID:f132cf608d4943a8d45d8d4a878284cd
CREATED;VALUE=DATE-TIME:20180603T000000Z
CATEGORIES:Música
LOCATION:Pati del C.C.Calisay - Riera del Pare Fita, 31
ORGANIZER:Fundació Maria Canals, Escola Municipal de Música Carles G. Vidiella i Regidoria de Cultura
COMMENT:Durada: D'11 a 2 del migdia i de 5 a 7 de la tarda
DESCRIPTION:El Maria Canals porta cua. Vine i toca el piano!
URL:https://arenysdemar.cat/document.php?id=35083
END:VEVENT
END:VCALENDAR