BEGIN:VCALENDAR
VERSION:2.0
PRODID:-//Plone.org//NONSGML plone.app.event//EN
X-WR-TIMEZONE:Europe/Madrid
BEGIN:VEVENT
SUMMARY:Festival de fi de curs de l'Escola de Ballet d'Arenys
DTSTART;TZID=Europe/Madrid;VALUE=DATE-TIME:20180616T170000
DTEND;TZID=Europe/Madrid;VALUE=DATE-TIME:20180616T180000
DTSTAMP;VALUE=DATE-TIME:20260423T121822Z
UID:6e707bf32e1ba98f09c6704d39dee62d
CREATED;VALUE=DATE-TIME:20180616T000000Z
LOCATION:Casal de Joventut Seràfica - Josep Baralt, s/n
ORGANIZER:Escola de Ballet d'Arenys
COMMENT:Preu: 8 euros
URL:https://arenysdemar.cat/document.php?id=35097
END:VEVENT
END:VCALENDAR