BEGIN:VCALENDAR
VERSION:2.0
PRODID:-//Plone.org//NONSGML plone.app.event//EN
X-WR-TIMEZONE:Europe/Madrid
BEGIN:VEVENT
SUMMARY:Inscripcions de Macips!
DTSTART;TZID=Europe/Madrid;VALUE=DATE-TIME:20180624T000000
DTEND;TZID=Europe/Madrid;VALUE=DATE-TIME:20180624T010000
DTSTAMP;VALUE=DATE-TIME:20260424T024702Z
UID:f91acb3f35778a82946d984c334cb75f
CREATED;VALUE=DATE-TIME:20180624T000000Z
CATEGORIES:Festa
LOCATION:Al web www.macips.cat
ORGANIZER:Patronat de Sant Roc
COMMENT:Preu: 10 euros
Durada: Fins al 24 de juliol
DESCRIPTION:Per participar a les Festes de Sant Roc 2018
URL:https://arenysdemar.cat/document.php?id=35119
END:VEVENT
END:VCALENDAR