BEGIN:VCALENDAR
VERSION:2.0
PRODID:-//Plone.org//NONSGML plone.app.event//EN
X-WR-TIMEZONE:Europe/Madrid
BEGIN:VEVENT
SUMMARY:Festa de germanor
DTSTART;TZID=Europe/Madrid;VALUE=DATE-TIME:20180703T120000
DTEND;TZID=Europe/Madrid;VALUE=DATE-TIME:20180703T130000
DTSTAMP;VALUE=DATE-TIME:20260421T190630Z
UID:02875a0ba3a45c8b6e7f022acab49999
CREATED;VALUE=DATE-TIME:20180703T000000Z
CATEGORIES:Festa
LOCATION:Esglesia dels Caputxins i restaurant d'Arenys de Munt
ORGANIZER:Vocalia de Jubilats
COMMENT:Preu: 20&euro; socis, i 25 &euro; pels no socis
URL:https://arenysdemar.cat/document.php?id=35162
END:VEVENT
END:VCALENDAR