BEGIN:VCALENDAR
VERSION:2.0
PRODID:-//Plone.org//NONSGML plone.app.event//EN
X-WR-TIMEZONE:Europe/Madrid
BEGIN:VEVENT
SUMMARY:Hora del conte i taller per a infants: Bear hunt
DTSTART;TZID=Europe/Madrid;VALUE=DATE-TIME:20180719T183000
DTEND;TZID=Europe/Madrid;VALUE=DATE-TIME:20180719T193000
DTSTAMP;VALUE=DATE-TIME:20260421T174324Z
UID:c83981c77aefed8693c335244521b00a
CREATED;VALUE=DATE-TIME:20180719T000000Z
CATEGORIES:Literatura,Infantils
LOCATION:Biblioplatja - Platja de la Picòrdia
ORGANIZER:Biblioteca - Regidoria de Cultura
DESCRIPTION:a càrrec d'Ingrid Marín, Ivana Ares, Adrià i Víctor Ferrari
URL:https://arenysdemar.cat/document.php?id=35201
END:VEVENT
END:VCALENDAR