BEGIN:VCALENDAR
VERSION:2.0
PRODID:-//Plone.org//NONSGML plone.app.event//EN
X-WR-TIMEZONE:Europe/Madrid
BEGIN:VEVENT
SUMMARY:Enramada de la plaça
DTSTART;TZID=Europe/Madrid;VALUE=DATE-TIME:20180703T180000
DTEND;TZID=Europe/Madrid;VALUE=DATE-TIME:20180703T190000
DTSTAMP;VALUE=DATE-TIME:20260423T152839Z
UID:cb83e0ac1133f79291785a57a946bd96
CREATED;VALUE=DATE-TIME:20180703T000000Z
CATEGORIES:Festa
LOCATION:Plaça de l'Església - Plaça de l'Església
ORGANIZER:Patronat de Sant Roc, Associació de Pubillatge Arenyenc, Cau Flos i Calcat, Cau Sant Francesc i Regidoria de Joventut
URL:https://arenysdemar.cat/document.php?id=35240
END:VEVENT
END:VCALENDAR