BEGIN:VCALENDAR
VERSION:2.0
PRODID:-//Plone.org//NONSGML plone.app.event//EN
X-WR-TIMEZONE:Europe/Madrid
BEGIN:VEVENT
SUMMARY:Ioga en família
DTSTART;TZID=Europe/Madrid;VALUE=DATE-TIME:20180724T190000
DTEND;TZID=Europe/Madrid;VALUE=DATE-TIME:20180724T200000
DTSTAMP;VALUE=DATE-TIME:20260423T182920Z
UID:d3a2aa89003610c708c520911792e33c
CREATED;VALUE=DATE-TIME:20180724T000000Z
CATEGORIES:Cursos,Infantils
LOCATION:Biblioplatja - Platja de la Picòrdia
ORGANIZER:Biblioteca - Regidoria de Cultura
COMMENT:Preu: Inscripcions a la Biblioteca o a la Biblioplatja - Places limitades
DESCRIPTION:a càrrec de Yolanda Marín del centre Yogayo
URL:https://arenysdemar.cat/document.php?id=35266
END:VEVENT
END:VCALENDAR