BEGIN:VCALENDAR
VERSION:2.0
PRODID:-//Plone.org//NONSGML plone.app.event//EN
X-WR-TIMEZONE:Europe/Madrid
BEGIN:VEVENT
SUMMARY:Inauguració de l'exposició: Any Caputxí. Arenys de Mar, 1618-2018 i conferència inaugural: Patrimoni tèxtil al Convent: el penó de l'Orfeó Seràfic a càrrec de Joan Miquel Llodrà
DTSTART;TZID=Europe/Madrid;VALUE=DATE-TIME:20180622T203000
DTEND;TZID=Europe/Madrid;VALUE=DATE-TIME:20180622T213000
DTSTAMP;VALUE=DATE-TIME:20260423T190500Z
UID:9325279096594ff9700b62d28ff7854d
CREATED;VALUE=DATE-TIME:20180622T000000Z
CATEGORIES:Exposició,Conferència
LOCATION:Sala Noble del C.C.Calisay - Riera Pare Fita, 31
ORGANIZER:Frares Caputxins
COMMENT:Durada: L'exposició es podrà visitar a l'Oficina de Turisme, l'Església de Santa Maria, la Biblioteca, el Museu Marès, el CC Calisay i el Convent dels Caputxins, fins la primera setmana d'octubre.
URL:https://arenysdemar.cat/document.php?id=35284
END:VEVENT
END:VCALENDAR