BEGIN:VCALENDAR
VERSION:2.0
PRODID:-//Plone.org//NONSGML plone.app.event//EN
X-WR-TIMEZONE:Europe/Madrid
BEGIN:VEVENT
SUMMARY:El Perdó d'Assís
DTSTART;TZID=Europe/Madrid;VALUE=DATE-TIME:20180802T193000
DTEND;TZID=Europe/Madrid;VALUE=DATE-TIME:20180802T203000
DTSTAMP;VALUE=DATE-TIME:20260421T232814Z
UID:2287803f6add61d4e7ebf62fdfec8bf1
CREATED;VALUE=DATE-TIME:20180802T000000Z
CATEGORIES:Festa
LOCATION:Convent dels Caputxins
ORGANIZER:Frares Caputxins
DESCRIPTION:Amb motiu de la festivitat de la Mare de Déu dels Àngels
URL:https://arenysdemar.cat/document.php?id=35298
END:VEVENT
END:VCALENDAR