BEGIN:VCALENDAR
VERSION:2.0
PRODID:-//Plone.org//NONSGML plone.app.event//EN
X-WR-TIMEZONE:Europe/Madrid
BEGIN:VEVENT
SUMMARY:Ofrena de macips, macipes i captadores a Sant Roc i cantada dels goigs
DTSTART;TZID=Europe/Madrid;VALUE=DATE-TIME:20180816T080000
DTEND;TZID=Europe/Madrid;VALUE=DATE-TIME:20180816T090000
DTSTAMP;VALUE=DATE-TIME:20260424T163104Z
UID:8631ddc0daccf94cd261db83abfdcf40
CREATED;VALUE=DATE-TIME:20180816T000000Z
CATEGORIES:Festa
LOCATION:Església de Santa Maria - Plaça de l'Església
ORGANIZER:Patronat de Sant Roc i Parròquia de Santa Maria
URL:https://arenysdemar.cat/document.php?id=35312
END:VEVENT
END:VCALENDAR