BEGIN:VCALENDAR
VERSION:2.0
PRODID:-//Plone.org//NONSGML plone.app.event//EN
X-WR-TIMEZONE:Europe/Madrid
BEGIN:VEVENT
SUMMARY:Cercavila de gegants
DTSTART;TZID=Europe/Madrid;VALUE=DATE-TIME:20180816T180000
DTEND;TZID=Europe/Madrid;VALUE=DATE-TIME:20180816T190000
DTSTAMP;VALUE=DATE-TIME:20260425T032508Z
UID:4e72616c1e9a805248b2e6116e7dec1c
CREATED;VALUE=DATE-TIME:20180816T000000Z
CATEGORIES:Festa
LOCATION:Església de Santa Maria - Plaça de l'Església
ORGANIZER:Associació de Geganters i Ajuntament d'Arenys de Mar
DESCRIPTION:Acompanyament d'autoritats a ofici
URL:https://arenysdemar.cat/document.php?id=35314
END:VEVENT
END:VCALENDAR