BEGIN:VCALENDAR
VERSION:2.0
PRODID:-//Plone.org//NONSGML plone.app.event//EN
X-WR-TIMEZONE:Europe/Madrid
BEGIN:VEVENT
SUMMARY:Inauguració de l'exposició Records en el temps
DTSTART;TZID=Europe/Madrid;VALUE=DATE-TIME:20180907T200000
DTEND;TZID=Europe/Madrid;VALUE=DATE-TIME:20180907T210000
DTSTAMP;VALUE=DATE-TIME:20260420T203053Z
UID:5c97b229d0429cb1a7b1cc25025b7d39
CREATED;VALUE=DATE-TIME:20180907T000000Z
CATEGORIES:Exposició
LOCATION:Sala Exposicions del C.C.Calisay - Riera del Pare Fita, 31
ORGANIZER:Regidoria de Cultura
COMMENT:Durada: Fins al 30 de setembre
DESCRIPTION:obres de Jaume Vilarrupla
URL:https://arenysdemar.cat/document.php?id=35320
END:VEVENT
END:VCALENDAR