BEGIN:VCALENDAR
VERSION:2.0
PRODID:-//Plone.org//NONSGML plone.app.event//EN
X-WR-TIMEZONE:Europe/Madrid
BEGIN:VEVENT
SUMMARY:Una ruta teatralitzada: Arenys de punta i cotó
DTSTART;TZID=Europe/Madrid;VALUE=DATE-TIME:20180715T110000
DTEND;TZID=Europe/Madrid;VALUE=DATE-TIME:20180715T120000
DTSTAMP;VALUE=DATE-TIME:20260420T204415Z
UID:530d270debd486cd9c4a20a61edaab3a
CREATED;VALUE=DATE-TIME:20180715T000000Z
CATEGORIES:Teatre
LOCATION:A determinar
ORGANIZER:Regidoria de Turisme i Fires
COMMENT:Preu: Gratuït. Inscripcions a l'Oficina de Turisme, a turisme@arenysdemar.cat o bé al tel. 937957039 ( places limitades)
URL:https://arenysdemar.cat/document.php?id=35347
END:VEVENT
END:VCALENDAR