BEGIN:VCALENDAR
VERSION:2.0
PRODID:-//Plone.org//NONSGML plone.app.event//EN
X-WR-TIMEZONE:Europe/Madrid
BEGIN:VEVENT
SUMMARY:Italian in Algeri de Giochino Rossini
DTSTART;TZID=Europe/Madrid;VALUE=DATE-TIME:20181218T200000
DTEND;TZID=Europe/Madrid;VALUE=DATE-TIME:20181218T210000
DTSTAMP;VALUE=DATE-TIME:20260420T183945Z
UID:4f600c7e1a71b7ccb835c7d44c192a41
CREATED;VALUE=DATE-TIME:20181218T000000Z
CATEGORIES:Cinema
LOCATION:Teatre Principal - C. Església, 45-47
ORGANIZER:S.C.L'Esperança i Regidoria de Cultura
COMMENT:Preu: 15 anticipada, 17 a taquilla i 13 socis
DESCRIPTION:Retransmissió en directe desde el Gran Teatre del Liceu
URL:https://arenysdemar.cat/document.php?id=35450
END:VEVENT
END:VCALENDAR