BEGIN:VCALENDAR
VERSION:2.0
PRODID:-//Plone.org//NONSGML plone.app.event//EN
X-WR-TIMEZONE:Europe/Madrid
BEGIN:VEVENT
SUMMARY:Open Arms, la defensa dels drets humans al mar
DTSTART;TZID=Europe/Madrid;VALUE=DATE-TIME:20180928T190000
DTEND;TZID=Europe/Madrid;VALUE=DATE-TIME:20180928T200000
DTSTAMP;VALUE=DATE-TIME:20260423T231131Z
UID:21bc209f16922d60be345f7fe9cb8968
CREATED;VALUE=DATE-TIME:20180928T000000Z
LOCATION:Sala Josep Maria Arnau del C.C.Calisay - Riera del Pare Fita, 31
ORGANIZER:Regidoria de Medi Ambient
URL:https://arenysdemar.cat/document.php?id=35558
END:VEVENT
END:VCALENDAR