BEGIN:VCALENDAR
VERSION:2.0
PRODID:-//Plone.org//NONSGML plone.app.event//EN
X-WR-TIMEZONE:Europe/Madrid
BEGIN:VEVENT
SUMMARY:Visites guiades a l'Església de Santa Maria d'Arenys de Mar
DTSTART;TZID=Europe/Madrid;VALUE=DATE-TIME:20181013T120000
DTEND;TZID=Europe/Madrid;VALUE=DATE-TIME:20181013T130000
DTSTAMP;VALUE=DATE-TIME:20260423T224609Z
UID:3935ed9df159e0b9535c017237ec0343
CREATED;VALUE=DATE-TIME:20181013T000000Z
CATEGORIES:Mostra
LOCATION:Església de Santa Maria - Plaça de l'Església
ORGANIZER:Ajuntament d'Arenys de Mar-Museu d'Arenys de Mar i Església de Santa Maria
COMMENT:Preu: Gratuït
Durada: Cada dissabte d'octubre de 12 a 13h
URL:https://arenysdemar.cat/document.php?id=35567
END:VEVENT
END:VCALENDAR