BEGIN:VCALENDAR
VERSION:2.0
PRODID:-//Plone.org//NONSGML plone.app.event//EN
X-WR-TIMEZONE:Europe/Madrid
BEGIN:VEVENT
SUMMARY:Coneixements del Món Laboral (Mòdul B)
DTSTART;TZID=Europe/Madrid;VALUE=DATE-TIME:20181002T180000
DTEND;TZID=Europe/Madrid;VALUE=DATE-TIME:20181002T190000
DTSTAMP;VALUE=DATE-TIME:20260423T182539Z
UID:a352f2e0f57298d78af2e831d61e7aa6
CREATED;VALUE=DATE-TIME:20181002T000000Z
CATEGORIES:Cursos
LOCATION:Edifici Xifré - Can Nadal s/n
ORGANIZER:Consell Comarcal del Maresme: Servei Itinerant d'Acollida
COMMENT:Preu: Gratuït
Durada: Fins al 25 d'octubre
DESCRIPTION:Per a persones nouvingudes
URL:https://arenysdemar.cat/document.php?id=35599
END:VEVENT
END:VCALENDAR