BEGIN:VCALENDAR
VERSION:2.0
PRODID:-//Plone.org//NONSGML plone.app.event//EN
X-WR-TIMEZONE:Europe/Madrid
BEGIN:VEVENT
SUMMARY:39è Cros dels Arenys
DTSTART;TZID=Europe/Madrid;VALUE=DATE-TIME:20181103T100000
DTEND;TZID=Europe/Madrid;VALUE=DATE-TIME:20181103T110000
DTSTAMP;VALUE=DATE-TIME:20260423T150900Z
UID:5986f621cc8b6ec9abd8224241c46541
CREATED;VALUE=DATE-TIME:20181103T000000Z
CATEGORIES:Esports
LOCATION:Parc Can Jalpí (Arenys de Munt)
ORGANIZER:Regidoria d'Esports
URL:https://arenysdemar.cat/document.php?id=35646
END:VEVENT
END:VCALENDAR