BEGIN:VCALENDAR
VERSION:2.0
PRODID:-//Plone.org//NONSGML plone.app.event//EN
X-WR-TIMEZONE:Europe/Madrid
BEGIN:VEVENT
SUMMARY:Conferència de Genoma i Genealogia: què diuen els meus gens de la meva història
DTSTART;TZID=Europe/Madrid;VALUE=DATE-TIME:20181113T180000
DTEND;TZID=Europe/Madrid;VALUE=DATE-TIME:20181113T190000
DTSTAMP;VALUE=DATE-TIME:20260420T152909Z
UID:a6fa9fb0bfa232dda4ad09886ab75341
CREATED;VALUE=DATE-TIME:20181113T000000Z
CATEGORIES:Conferència
LOCATION:Sala Josep Maria Arnau del C.C.Calisay - Riera del Pare Fita, 31
ORGANIZER:Aula d'Extensió Universitària
COMMENT:Preu: -
DESCRIPTION:Genealogia
URL:https://arenysdemar.cat/document.php?id=35658
END:VEVENT
END:VCALENDAR