BEGIN:VCALENDAR
VERSION:2.0
PRODID:-//Plone.org//NONSGML plone.app.event//EN
X-WR-TIMEZONE:Europe/Madrid
BEGIN:VEVENT
SUMMARY:Visita guiada a l'exposició Picasso descobreix París al Museu Picasso
DTSTART;TZID=Europe/Madrid;VALUE=DATE-TIME:20181128T000000
DTEND;TZID=Europe/Madrid;VALUE=DATE-TIME:20181128T010000
DTSTAMP;VALUE=DATE-TIME:20260420T002245Z
UID:95b98a75742cabc76503990d548238eb
CREATED;VALUE=DATE-TIME:20181128T000000Z
CATEGORIES:Exposició
LOCATION:sortida de la Riera davant del Calisay
ORGANIZER:Aula d'Extensió Universitària
URL:https://arenysdemar.cat/document.php?id=35682
END:VEVENT
END:VCALENDAR