BEGIN:VCALENDAR
VERSION:2.0
PRODID:-//Plone.org//NONSGML plone.app.event//EN
X-WR-TIMEZONE:Europe/Madrid
BEGIN:VEVENT
SUMMARY:Obertura del pessebre municipal
DTSTART;TZID=Europe/Madrid;VALUE=DATE-TIME:20181221T180000
DTEND;TZID=Europe/Madrid;VALUE=DATE-TIME:20181221T190000
DTSTAMP;VALUE=DATE-TIME:20260421T151955Z
UID:079eb4805a8ad720060a46087f9bd32f
CREATED;VALUE=DATE-TIME:20181221T000000Z
CATEGORIES:Exposició
LOCATION:Sala Exposicions del C.C.Calisay - Riera del Pare Fita, 31
ORGANIZER:Ajuntament d'Arenys de Mar
COMMENT:Durada: Fins al 6 de gener de 2019
URL:https://arenysdemar.cat/document.php?id=35753
END:VEVENT
END:VCALENDAR