BEGIN:VCALENDAR
VERSION:2.0
PRODID:-//Plone.org//NONSGML plone.app.event//EN
X-WR-TIMEZONE:Europe/Madrid
BEGIN:VEVENT
SUMMARY:DO-IN. Estiraments i exercicis terapèutics de Medicina Tradicional Xinesa
DTSTART;TZID=Europe/Madrid;VALUE=DATE-TIME:20181202T100000
DTEND;TZID=Europe/Madrid;VALUE=DATE-TIME:20181202T110000
DTSTAMP;VALUE=DATE-TIME:20260423T145322Z
UID:8eb5664b624472738a8d9fae808a5603
CREATED;VALUE=DATE-TIME:20181202T000000Z
CATEGORIES:Esports
LOCATION:Espai Jove del C.C.Calisay - Riera del Pare Fita, 31
ORGANIZER:Banc del Temps i "El millor metge ets tu"(Programa de Ràdio Arenys)
COMMENT:Preu: Activitat Gratuïta o Col·laboració voluntària
Durada: Tots els diumenges de 10 a 11 del matí
DESCRIPTION:A càrrec de l'Slobodan Jerkovic, terapeuta de shiatsu i Medicina Tradicional Xinesa
URL:https://arenysdemar.cat/document.php?id=35772
END:VEVENT
END:VCALENDAR