BEGIN:VCALENDAR
VERSION:2.0
PRODID:-//Plone.org//NONSGML plone.app.event//EN
X-WR-TIMEZONE:Europe/Madrid
BEGIN:VEVENT
SUMMARY:Ball del dissabte
DTSTART;TZID=Europe/Madrid;VALUE=DATE-TIME:20181208T223000
DTEND;TZID=Europe/Madrid;VALUE=DATE-TIME:20181208T233000
DTSTAMP;VALUE=DATE-TIME:20260420T164805Z
UID:43dbfe0c92973f55d570025b82a03540
CREATED;VALUE=DATE-TIME:20181208T000000Z
CATEGORIES:Música
LOCATION:Ateneu Arenyenc - Anselm Clavé, 22
ORGANIZER:Ateneu Arenyenc
COMMENT:Preu: Soci 5 euros i no soci 7 euros
DESCRIPTION:amb l'actuació de Joan Músic
URL:https://arenysdemar.cat/document.php?id=35794
END:VEVENT
END:VCALENDAR