BEGIN:VCALENDAR
VERSION:2.0
PRODID:-//Plone.org//NONSGML plone.app.event//EN
X-WR-TIMEZONE:Europe/Madrid
BEGIN:VEVENT
SUMMARY:Conferència d'Història del Cinema: Casablanca: sempre ens quedarà el mite. Un viatge a Roma a través del cinema
DTSTART;TZID=Europe/Madrid;VALUE=DATE-TIME:20181218T180000
DTEND;TZID=Europe/Madrid;VALUE=DATE-TIME:20181218T190000
DTSTAMP;VALUE=DATE-TIME:20260420T190713Z
UID:9f3564912998dd78374545d9d2814c6c
CREATED;VALUE=DATE-TIME:20181218T000000Z
CATEGORIES:Conferència
LOCATION:Sala Josep Maria Arnau del C.C.Calisay - Riera del Pare Fita, 31
ORGANIZER:Aula d'Extensió Universitària
DESCRIPTION:a càrrec d'Albert Beorlegui, comentarista cinematogràfic
URL:https://arenysdemar.cat/document.php?id=35796
END:VEVENT
END:VCALENDAR