BEGIN:VCALENDAR
VERSION:2.0
PRODID:-//Plone.org//NONSGML plone.app.event//EN
X-WR-TIMEZONE:Europe/Madrid
BEGIN:VEVENT
SUMMARY:Missa del Gall
DTSTART;TZID=Europe/Madrid;VALUE=DATE-TIME:20181224T230000
DTEND;TZID=Europe/Madrid;VALUE=DATE-TIME:20181225T000000
DTSTAMP;VALUE=DATE-TIME:20260421T171126Z
UID:228a47c2fd25e9831a0f7b5fe3c001e2
CREATED;VALUE=DATE-TIME:20181224T000000Z
CATEGORIES:Festa
LOCATION:Església de Santa Maria
ORGANIZER:Parròquia de Santa Maria
URL:https://arenysdemar.cat/document.php?id=35799
END:VEVENT
END:VCALENDAR