BEGIN:VCALENDAR
VERSION:2.0
PRODID:-//Plone.org//NONSGML plone.app.event//EN
X-WR-TIMEZONE:Europe/Madrid
BEGIN:VEVENT
SUMMARY:Concert / Ball
DTSTART;TZID=Europe/Madrid;VALUE=DATE-TIME:20190209T223000
DTEND;TZID=Europe/Madrid;VALUE=DATE-TIME:20190209T233000
DTSTAMP;VALUE=DATE-TIME:20260424T061328Z
UID:84b15ab79bd9d6b2010224941f4516ff
CREATED;VALUE=DATE-TIME:20190209T000000Z
CATEGORIES:Música
LOCATION:Ateneu Arenyenc - Anselm Clavé, 22
ORGANIZER:Ateneu Arenyenc
COMMENT:Preu: 6 euros
DESCRIPTION:amb l'actuació de Els Duendes
URL:https://arenysdemar.cat/document.php?id=35803
END:VEVENT
END:VCALENDAR