BEGIN:VCALENDAR
VERSION:2.0
PRODID:-//Plone.org//NONSGML plone.app.event//EN
X-WR-TIMEZONE:Europe/Madrid
BEGIN:VEVENT
SUMMARY:Converses a la carta en italià. Conversazione in italiano
DTSTART;TZID=Europe/Madrid;VALUE=DATE-TIME:20181203T190000
DTEND;TZID=Europe/Madrid;VALUE=DATE-TIME:20181203T200000
DTSTAMP;VALUE=DATE-TIME:20260424T180825Z
UID:f309feebb801d485527f355443bb783c
CREATED;VALUE=DATE-TIME:20181203T000000Z
CATEGORIES:Cursos
LOCATION:Sala d'Actes de la Biblioteca - C. Bonaire, 3
ORGANIZER:Biblioteca - Regidoria de Cultura
DESCRIPTION:a càrrec d'Anna Riera
URL:https://arenysdemar.cat/document.php?id=35833
END:VEVENT
END:VCALENDAR