BEGIN:VCALENDAR
VERSION:2.0
PRODID:-//Plone.org//NONSGML plone.app.event//EN
X-WR-TIMEZONE:Europe/Madrid
BEGIN:VEVENT
SUMMARY:Concert de Nadal
DTSTART;TZID=Europe/Madrid;VALUE=DATE-TIME:20181223T121500
DTEND;TZID=Europe/Madrid;VALUE=DATE-TIME:20181223T131500
DTSTAMP;VALUE=DATE-TIME:20260421T010422Z
UID:57bacfb30f6b9adc9066e7335d9e919a
CREATED;VALUE=DATE-TIME:20181223T000000Z
CATEGORIES:Música
LOCATION:Convent dels Frares Caputxins
ORGANIZER:Associació Escola de Música Carles G. Vidiella
DESCRIPTION:a càrrec dels cors de l'escola
URL:https://arenysdemar.cat/document.php?id=35849
END:VEVENT
END:VCALENDAR